BEGIN:VCALENDAR
VERSION:2.0
PRODID:-//Multiples Bay of Plenty - ECPv4.6.18//NONSGML v1.0//EN
CALSCALE:GREGORIAN
METHOD:PUBLISH
X-WR-CALNAME:Multiples Bay of Plenty
X-ORIGINAL-URL:http://multiplesbop.org.nz
X-WR-CALDESC:Events for Multiples Bay of Plenty
BEGIN:VEVENT
DTSTART;TZID=Pacific/Auckland:20171217T103000
DTEND;TZID=Pacific/Auckland:20171217T133000
DTSTAMP:20181224T110116
CREATED:20171201T080423Z
LAST-MODIFIED:20171201T080423Z
UID:2049-1513506600-1513517400@multiplesbop.org.nz
SUMMARY:2017 Christmas Party
DESCRIPTION:
URL:http://multiplesbop.org.nz/event/2017-christmas-party/
LOCATION:9 Jean Batten Drive\, Mount Maunganui\, Mount Maunganui\, Bay of Plenty\, 3116\, New Zealand
CATEGORIES:Kid's Club,Multiples Bay of Plenty events,Mums & Bubs Club,Tiny Tots
END:VEVENT
END:VCALENDAR